BEGIN:VCALENDAR
VERSION:2.0
PRODID:-//First Congregational United Church Of Christ - ECPv4.9.9//NONSGML v1.0//EN
CALSCALE:GREGORIAN
METHOD:PUBLISH
X-WR-CALNAME:First Congregational United Church Of Christ
X-ORIGINAL-URL:https://angolaucc.org
X-WR-CALDESC:Events for First Congregational United Church Of Christ
BEGIN:VTIMEZONE
TZID:America/Detroit
BEGIN:DAYLIGHT
TZOFFSETFROM:-0500
TZOFFSETTO:-0400
TZNAME:EDT
DTSTART:20160313T070000
END:DAYLIGHT
BEGIN:STANDARD
TZOFFSETFROM:-0400
TZOFFSETTO:-0500
TZNAME:EST
DTSTART:20161106T060000
END:STANDARD
END:VTIMEZONE
BEGIN:VEVENT
DTSTART;TZID=America/Detroit:20161120T120000
DTEND;TZID=America/Detroit:20161120T140000
DTSTAMP:20260423T082818
CREATED:20160925T142305Z
LAST-MODIFIED:20161009T141530Z
UID:1860-1479643200-1479650400@angolaucc.org
SUMMARY:Andy Lang ONA Workshop 12p
DESCRIPTION:This workshop is lead by our UCC’s Open and Affirming Coalition Executive Director Andy Lang. \nEveryone is invited to attend this event which will be held in Fellowship Hall which is located in the basement floor of the church. \n  \n
URL:https://angolaucc.org/event/andy-lang-ona-workshop/
LOCATION:FCUCC Church\, 314 W Maumee St.\, Angola\, 46703\, United States
CATEGORIES:Church
GEO:41.635011;-85.002444
X-APPLE-STRUCTURED-LOCATION;VALUE=URI;X-ADDRESS=FCUCC Church 314 W Maumee St. Angola 46703 United States;X-APPLE-RADIUS=500;X-TITLE=314 W Maumee St.:geo:-85.002444,41.635011
END:VEVENT
END:VCALENDAR