BEGIN:VCALENDAR
VERSION:2.0
PRODID:-//First Congregational United Church Of Christ - ECPv4.9.9//NONSGML v1.0//EN
CALSCALE:GREGORIAN
METHOD:PUBLISH
X-WR-CALNAME:First Congregational United Church Of Christ
X-ORIGINAL-URL:https://angolaucc.org
X-WR-CALDESC:Events for First Congregational United Church Of Christ
BEGIN:VTIMEZONE
TZID:America/Detroit
BEGIN:DAYLIGHT
TZOFFSETFROM:-0500
TZOFFSETTO:-0400
TZNAME:EDT
DTSTART:20150308T070000
END:DAYLIGHT
BEGIN:STANDARD
TZOFFSETFROM:-0400
TZOFFSETTO:-0500
TZNAME:EST
DTSTART:20151101T060000
END:STANDARD
END:VTIMEZONE
BEGIN:VEVENT
DTSTART;TZID=America/Detroit:20151223T174500
DTEND;TZID=America/Detroit:20151223T184500
DTSTAMP:20260421T134054
CREATED:20151223T145557Z
LAST-MODIFIED:20151223T145557Z
UID:1072-1450892700-1450896300@angolaucc.org
SUMMARY:Bell Choir Rehearsal
DESCRIPTION:
URL:https://angolaucc.org/event/bell-choir-rehearsal-2/
LOCATION:FCUCC Church\, 314 W Maumee St.\, Angola\, 46703\, United States
CATEGORIES:Church
GEO:41.635011;-85.002444
X-APPLE-STRUCTURED-LOCATION;VALUE=URI;X-ADDRESS=FCUCC Church 314 W Maumee St. Angola 46703 United States;X-APPLE-RADIUS=500;X-TITLE=314 W Maumee St.:geo:-85.002444,41.635011
END:VEVENT
END:VCALENDAR