BEGIN:VCALENDAR
VERSION:2.0
PRODID:-//First Congregational United Church Of Christ - ECPv4.9.9//NONSGML v1.0//EN
CALSCALE:GREGORIAN
METHOD:PUBLISH
X-WR-CALNAME:First Congregational United Church Of Christ
X-ORIGINAL-URL:https://angolaucc.org
X-WR-CALDESC:Events for First Congregational United Church Of Christ
BEGIN:VTIMEZONE
TZID:America/Detroit
BEGIN:DAYLIGHT
TZOFFSETFROM:-0500
TZOFFSETTO:-0400
TZNAME:EDT
DTSTART:20250309T070000
END:DAYLIGHT
BEGIN:STANDARD
TZOFFSETFROM:-0400
TZOFFSETTO:-0500
TZNAME:EST
DTSTART:20251102T060000
END:STANDARD
END:VTIMEZONE
BEGIN:VEVENT
DTSTART;TZID=America/Detroit:20251203T174500
DTEND;TZID=America/Detroit:20251203T200000
DTSTAMP:20260423T132156
CREATED:20251001T034203Z
LAST-MODIFIED:20251201T050310Z
UID:10951-1764783900-1764792000@angolaucc.org
SUMMARY:Choir Rehearsal
DESCRIPTION:Do you enjoy singing and/or ringing bells? We like hearing singing and/or ringing bells during worship! \nBecause a joyful noise is more important than a perfect pitch\, people of all skill levels are welcome – really-really! \nBells will meet at 5:45 pm and the \nChancel Choir will meet at 7:00 pm. \n
URL:https://angolaucc.org/event/choirs-2025-26/2025-12-03/
CATEGORIES:Church
ATTACH;FMTTYPE=image/png:https://angolaucc.org/wp-content/uploads/2025/09/choir-practice-1.png
END:VEVENT
END:VCALENDAR