BEGIN:VCALENDAR
VERSION:2.0
PRODID:-//First Congregational United Church Of Christ - ECPv4.9.9//NONSGML v1.0//EN
CALSCALE:GREGORIAN
METHOD:PUBLISH
X-WR-CALNAME:First Congregational United Church Of Christ
X-ORIGINAL-URL:https://angolaucc.org
X-WR-CALDESC:Events for First Congregational United Church Of Christ
BEGIN:VTIMEZONE
TZID:America/Detroit
BEGIN:DAYLIGHT
TZOFFSETFROM:-0500
TZOFFSETTO:-0400
TZNAME:EDT
DTSTART:20150308T070000
END:DAYLIGHT
BEGIN:STANDARD
TZOFFSETFROM:-0400
TZOFFSETTO:-0500
TZNAME:EST
DTSTART:20151101T060000
END:STANDARD
END:VTIMEZONE
BEGIN:VEVENT
DTSTART;TZID=America/Detroit:20150920T130000
DTEND;TZID=America/Detroit:20150920T140000
DTSTAMP:20260419T180401
CREATED:20150917T163112Z
LAST-MODIFIED:20150917T163112Z
UID:904-1442754000-1442757600@angolaucc.org
SUMMARY:Esquivel/Gomez Wedding
DESCRIPTION:Please plan to stay after church on Sunday\, September 20th for the Andy Esquivel/Theresa Gomez wedding at 1 p.m. \nDave and Bonnie Snyder will serve a light lunch featuring “End of the Garden” Soup after worship. \nThe wedding will follow the council meeting and Sunday school; a short reception will follow the ceremony\, so please stay for wedding cake. \nIf you would like to contribute to a gift for Andy and Theresa\, please make donations payable to First Congregational\, and mark the envelope or check “wedding gift.”   \n
URL:https://angolaucc.org/event/esquivelgomez-wedding/
LOCATION:FCUCC Church\, 314 W Maumee St.\, Angola\, 46703\, United States
CATEGORIES:Church,Community
GEO:41.635011;-85.002444
X-APPLE-STRUCTURED-LOCATION;VALUE=URI;X-ADDRESS=FCUCC Church 314 W Maumee St. Angola 46703 United States;X-APPLE-RADIUS=500;X-TITLE=314 W Maumee St.:geo:-85.002444,41.635011
END:VEVENT
END:VCALENDAR