BEGIN:VCALENDAR
VERSION:2.0
PRODID:-//First Congregational United Church Of Christ - ECPv4.9.9//NONSGML v1.0//EN
CALSCALE:GREGORIAN
METHOD:PUBLISH
X-WR-CALNAME:First Congregational United Church Of Christ
X-ORIGINAL-URL:https://angolaucc.org
X-WR-CALDESC:Events for First Congregational United Church Of Christ
BEGIN:VTIMEZONE
TZID:America/Detroit
BEGIN:DAYLIGHT
TZOFFSETFROM:-0500
TZOFFSETTO:-0400
TZNAME:EDT
DTSTART:20240310T070000
END:DAYLIGHT
BEGIN:STANDARD
TZOFFSETFROM:-0400
TZOFFSETTO:-0500
TZNAME:EST
DTSTART:20241103T060000
END:STANDARD
END:VTIMEZONE
BEGIN:VEVENT
DTSTART;TZID=America/Detroit:20240128T113000
DTEND;TZID=America/Detroit:20240128T170000
DTSTAMP:20260419T180346
CREATED:20240109T182450Z
LAST-MODIFIED:20240109T182450Z
UID:8562-1706441400-1706461200@angolaucc.org
SUMMARY:NAMI FaithNet Presentation
DESCRIPTION:Our congregation has formed a WISE Team. WISE stands for Welcoming\, Inclusive\, Supportive\, and Engaged for Mental Health. This is an effort by our faith community to be open and positive about the role of mental health in our lives\, as well as the need to encourage conversation and affirmation of those among us who have mental health concerns.\n\nAs part of our WISE Team’s work\, we are thrilled to have a presenter from the Fort Wayne NAMI FaithNet (NAMI = National Alliance on Mental Health) speak at our church on January 28 at 11:30 am. You are cordially invited to join us for this presentation.\n\nFor more information about NAMI FaithNet\, visit their website: https://www.nami.org/Get-Involved/NAMI-FaithNet.\n
URL:https://angolaucc.org/event/nami-faithnet-presentation/
ATTACH;FMTTYPE=image/png:https://angolaucc.org/wp-content/uploads/2024/01/NAMI-FaithNet-Presenation-Facebook-post.png
END:VEVENT
END:VCALENDAR