BEGIN:VCALENDAR
VERSION:2.0
PRODID:-//First Congregational United Church Of Christ - ECPv4.9.9//NONSGML v1.0//EN
CALSCALE:GREGORIAN
METHOD:PUBLISH
X-WR-CALNAME:First Congregational United Church Of Christ
X-ORIGINAL-URL:https://angolaucc.org
X-WR-CALDESC:Events for First Congregational United Church Of Christ
BEGIN:VTIMEZONE
TZID:America/Detroit
BEGIN:DAYLIGHT
TZOFFSETFROM:-0500
TZOFFSETTO:-0400
TZNAME:EDT
DTSTART:20150308T070000
END:DAYLIGHT
BEGIN:STANDARD
TZOFFSETFROM:-0400
TZOFFSETTO:-0500
TZNAME:EST
DTSTART:20151101T060000
END:STANDARD
END:VTIMEZONE
BEGIN:VEVENT
DTSTART;TZID=America/Detroit:20151028T090000
DTEND;TZID=America/Detroit:20151028T100000
DTSTAMP:20260421T132938
CREATED:20151009T161903Z
LAST-MODIFIED:20151207T152117Z
UID:939-1446022800-1446026400@angolaucc.org
SUMMARY:Out of the Bible
DESCRIPTION:The group meets in Fellowship Hall located in the church basement at 9:00 AM. \n
URL:https://angolaucc.org/event/out-of-the-bible-5/2015-10-28/
LOCATION:FCUCC Church\, 314 W Maumee St.\, Angola\, 46703\, United States
CATEGORIES:Community
GEO:41.635011;-85.002444
X-APPLE-STRUCTURED-LOCATION;VALUE=URI;X-ADDRESS=FCUCC Church 314 W Maumee St. Angola 46703 United States;X-APPLE-RADIUS=500;X-TITLE=314 W Maumee St.:geo:-85.002444,41.635011
END:VEVENT
END:VCALENDAR