BEGIN:VCALENDAR
VERSION:2.0
PRODID:-//First Congregational United Church Of Christ - ECPv4.9.9//NONSGML v1.0//EN
CALSCALE:GREGORIAN
METHOD:PUBLISH
X-WR-CALNAME:First Congregational United Church Of Christ
X-ORIGINAL-URL:https://angolaucc.org
X-WR-CALDESC:Events for First Congregational United Church Of Christ
BEGIN:VTIMEZONE
TZID:America/Detroit
BEGIN:DAYLIGHT
TZOFFSETFROM:-0500
TZOFFSETTO:-0400
TZNAME:EDT
DTSTART:20250309T070000
END:DAYLIGHT
BEGIN:STANDARD
TZOFFSETFROM:-0400
TZOFFSETTO:-0500
TZNAME:EST
DTSTART:20251102T060000
END:STANDARD
END:VTIMEZONE
BEGIN:VEVENT
DTSTART;TZID=America/Detroit:20250304T180000
DTEND;TZID=America/Detroit:20250304T190000
DTSTAMP:20260421T134131
CREATED:20250202T175558Z
LAST-MODIFIED:20250202T175640Z
UID:9659-1741111200-1741114800@angolaucc.org
SUMMARY:Reclaiming Jesus
DESCRIPTION:Join us February 4 through March 4\, when we will gather via Zoom for a group discussion and study of Reclaiming Jesus: A Confession of Faith in a Time of Crisis every Tuesday evening leading up to Ash Wednesday and the season of Lent. What better time to explore the reclamation of Jesus’ gospel from the rise of white Christian nationalism than during Black History Month? What better preparation for the Lenten season of repentance than acknowledging our shared faith is too often a used as a disguise for the sin of racism? Join us for this necessary conversation! \nTo access the document\, CLICK HERE   PLEASE NOTE: Do not go to the website listed on the document\, as it has been hacked sometime between 2018 and now. \nOur reading schedule will be: \n\nFebruary 4 – Introduction\nFebruary 11 – Sections 1 & 2\nFebruary 18 – Sections 3 & 4\nFebruary 25 – Sections 5 & 6\nMarch 4 – Conclusion\, wrap-up\n\n
URL:https://angolaucc.org/event/reclaiming-jesus/2025-03-04/
LOCATION:Zoom App\, United States
CATEGORIES:Church,Education
ATTACH;FMTTYPE=image/png:https://angolaucc.org/wp-content/uploads/2025/02/Reclaiming-Jesus-1.png
END:VEVENT
END:VCALENDAR