BEGIN:VCALENDAR
VERSION:2.0
PRODID:-//First Congregational United Church Of Christ - ECPv4.9.9//NONSGML v1.0//EN
CALSCALE:GREGORIAN
METHOD:PUBLISH
X-WR-CALNAME:First Congregational United Church Of Christ
X-ORIGINAL-URL:https://angolaucc.org
X-WR-CALDESC:Events for First Congregational United Church Of Christ
BEGIN:VTIMEZONE
TZID:America/Detroit
BEGIN:DAYLIGHT
TZOFFSETFROM:-0500
TZOFFSETTO:-0400
TZNAME:EDT
DTSTART:20240310T070000
END:DAYLIGHT
BEGIN:STANDARD
TZOFFSETFROM:-0400
TZOFFSETTO:-0500
TZNAME:EST
DTSTART:20241103T060000
END:STANDARD
END:VTIMEZONE
BEGIN:VEVENT
DTSTART;TZID=America/Detroit:20240121T110000
DTEND;TZID=America/Detroit:20240121T120000
DTSTAMP:20260419T180937
CREATED:20240107T163256Z
LAST-MODIFIED:20240107T163256Z
UID:8495-1705834800-1705838400@angolaucc.org
SUMMARY:Winter Biannual Meeting
DESCRIPTION:Join us after worship on January 21\, 2024\, in the sanctuary for our winter biannual meeting. We will approve the proposed budget and get an update on our building assessment and next steps for maintenance and renovation. Members are encouraged to vote\, all are encouraged to attend. \n
URL:https://angolaucc.org/event/winter-biannual-meeting/
ATTACH;FMTTYPE=image/png:https://angolaucc.org/wp-content/uploads/2024/01/BIANNUAL-Meeting-January-21-2024-Square.png
END:VEVENT
END:VCALENDAR