BEGIN:VCALENDAR
VERSION:2.0
PRODID:-//First Congregational United Church Of Christ - ECPv4.9.9//NONSGML v1.0//EN
CALSCALE:GREGORIAN
METHOD:PUBLISH
X-WR-CALNAME:First Congregational United Church Of Christ
X-ORIGINAL-URL:https://angolaucc.org
X-WR-CALDESC:Events for First Congregational United Church Of Christ
BEGIN:VTIMEZONE
TZID:America/Detroit
BEGIN:DAYLIGHT
TZOFFSETFROM:-0500
TZOFFSETTO:-0400
TZNAME:EDT
DTSTART:20260308T070000
END:DAYLIGHT
BEGIN:STANDARD
TZOFFSETFROM:-0400
TZOFFSETTO:-0500
TZNAME:EST
DTSTART:20261101T060000
END:STANDARD
END:VTIMEZONE
BEGIN:VEVENT
DTSTART;TZID=America/Detroit:20260226T120000
DTEND;TZID=America/Detroit:20260226T133000
DTSTAMP:20260425T031915
CREATED:20260202T153946Z
LAST-MODIFIED:20260209T155011Z
UID:11681-1772107200-1772112600@angolaucc.org
SUMMARY:Bible Study
DESCRIPTION:Come and see! From now until Pentecost we will be working with the Gospel of John. This month we move into the season of Lent\, and our readings each week will feature one of the many healing stories in John’s Gospel.  \nWe’ll meet in Pastor J’s office at noon on Thursdays. Please feel free to bring a lunch if you want to! Everyone is welcome. \nReadings for February study are as follows. \nFebruary 5: John 4:46 – 5:18 \nFebruary 12: John 9:1-41 \nFebruary 19: John 10:1-18 \nFebruary 26: John 11:1-44 \n
URL:https://angolaucc.org/event/bible-study-02-2026/2026-02-26/
CATEGORIES:Church,Education
ATTACH;FMTTYPE=image/png:https://angolaucc.org/wp-content/uploads/2026/02/February-2026-Bible-Study.png
END:VEVENT
BEGIN:VEVENT
DTSTART;TZID=America/Detroit:20260226T180000
DTEND;TZID=America/Detroit:20260226T190000
DTSTAMP:20260425T031915
CREATED:20260209T153702Z
LAST-MODIFIED:20260325T203036Z
UID:11688-1772128800-1772132400@angolaucc.org
SUMMARY:Lenten Services
DESCRIPTION:This year the pastoral team welcomes you to explore and claim your faith. Throughout Lent\, we will be working to unpack the twisted faith some of us have grown up with and are trying to untangle. \nOur Lenten theme is “Twisted Faith.” Following Ash Wednesday service\, we will offer a series of special services every Thursday of Lent\, at 6 pm\, we will explore the ways in which Scripture has been twisted into a weapon and instrument of abuse. Our weekly themes cover the use of Scripture to uphold slavery\, support colonial violence against indigenous peoples\, degrade and marginalize queer folks\, pillage Creation\, and oppress women. Our services will end always with the good news of the Gospel\, offering a redeemed reading of the twisted Scripture we may have inherited through family\, society\, or religious tradition. \nWhile we encourage you to attend these special services in person for best results\, these services will be livestreamed\, with links available in our weekly emails. \n
URL:https://angolaucc.org/event/lenten-services-2026/2026-02-26/
CATEGORIES:Church,Holiday
ATTACH;FMTTYPE=image/png:https://angolaucc.org/wp-content/uploads/2026/02/Twisted-Faith-square.png
END:VEVENT
END:VCALENDAR