BEGIN:VCALENDAR
VERSION:2.0
PRODID:-//First Congregational United Church Of Christ - ECPv4.9.9//NONSGML v1.0//EN
CALSCALE:GREGORIAN
METHOD:PUBLISH
X-WR-CALNAME:First Congregational United Church Of Christ
X-ORIGINAL-URL:https://angolaucc.org
X-WR-CALDESC:Events for First Congregational United Church Of Christ
BEGIN:VTIMEZONE
TZID:America/Detroit
BEGIN:DAYLIGHT
TZOFFSETFROM:-0500
TZOFFSETTO:-0400
TZNAME:EDT
DTSTART:20260308T070000
END:DAYLIGHT
BEGIN:STANDARD
TZOFFSETFROM:-0400
TZOFFSETTO:-0500
TZNAME:EST
DTSTART:20261101T060000
END:STANDARD
END:VTIMEZONE
BEGIN:VEVENT
DTSTART;TZID=America/Detroit:20260315T100000
DTEND;TZID=America/Detroit:20260315T100000
DTSTAMP:20260422T045630
CREATED:20220307T143744Z
LAST-MODIFIED:20251201T040457Z
UID:8596-1773568800-1773568800@angolaucc.org
SUMMARY:Sunday Worship
DESCRIPTION:Join us for in-person worship at 10 am each Sunday at First Congregational United Church of Christ\, 314 W. Maumee St.\, Angola\, IN 46814. \nFind the YouTube live stream here: FCUCC Angola YouTube Channel. \n
URL:https://angolaucc.org/event/sunday-worship/2026-03-15/
LOCATION:IN\, United States
CATEGORIES:Church
ATTACH;FMTTYPE=image/png:https://angolaucc.org/wp-content/uploads/2022/03/Updated-Worship-Square.png
END:VEVENT
BEGIN:VEVENT
DTSTART;TZID=America/Detroit:20260315T110000
DTEND;TZID=America/Detroit:20260315T123000
DTSTAMP:20260422T045630
CREATED:20260228T213158Z
LAST-MODIFIED:20260228T213400Z
UID:11773-1773572400-1773577800@angolaucc.org
SUMMARY:2026 Souper Supper and Auction
DESCRIPTION:The Missions Team is hosting the annual Souper Supper & Auction on Sunday\, March 15 after worship. This fun afternoon lets you get your fill of delicious soups (and offer some quarters or dollars to your favorites) and bid on some delicious homemade treats and handmade crafts\, artwork\, and so forth in a silent auction. All proceeds go to our Community Care Fund. \nThe cook whose soup earns the highest dollar amount in “votes” will be awarded the prestigious Golden Ladle™. \nSign up now to enter a soup and/or provide something(s) for the silent auction! You’ll find signup sheets on the bulletin boards. \nPlease note we are only accepting homemade and handcrafted donations for the auction this year. If you have something else from home that you’d like to donate\, we will be happy to take it for our parking lot sale later in the year. \n
URL:https://angolaucc.org/event/2026-souper-supper-and-auction/
LOCATION:IN
CATEGORIES:Church,Youth
ATTACH;FMTTYPE=image/png:https://angolaucc.org/wp-content/uploads/2026/02/Souper-Supper-Auction-2026.png
END:VEVENT
BEGIN:VEVENT
DTSTART;TZID=America/Detroit:20260315T130000
DTEND;TZID=America/Detroit:20260315T140000
DTSTAMP:20260422T045630
CREATED:20260104T235703Z
LAST-MODIFIED:20260228T200937Z
UID:11562-1773579600-1773583200@angolaucc.org
SUMMARY:Struggle Bus 2026
DESCRIPTION:\n\n\n\n\nThe Struggle Bus is a peer support group\, facilitated by Pastor January. All who struggle–with mental health concerns\, grief\, divorce care\, overwhelm and burnout\, ANYTHING – are welcome to this open time of support and empathy. We meet on the third Sunday of each month.\nWhile we typically meet at noon\, this month we will meet at 1 pm so that everyone can participate in our Souper Supper and silent auction after worship. \n\n\n\n\n
URL:https://angolaucc.org/event/struggle-bus-2026-2026-03-15/
LOCATION:IN
CATEGORIES:Church
ATTACH;FMTTYPE=image/png:https://angolaucc.org/wp-content/uploads/2025/11/Nobody-Rides-Alone-8.png
END:VEVENT
END:VCALENDAR