BEGIN:VCALENDAR
VERSION:2.0
PRODID:-//First Congregational United Church Of Christ - ECPv4.9.9//NONSGML v1.0//EN
CALSCALE:GREGORIAN
METHOD:PUBLISH
X-WR-CALNAME:First Congregational United Church Of Christ
X-ORIGINAL-URL:https://angolaucc.org
X-WR-CALDESC:Events for First Congregational United Church Of Christ
BEGIN:VTIMEZONE
TZID:America/Detroit
BEGIN:DAYLIGHT
TZOFFSETFROM:-0500
TZOFFSETTO:-0400
TZNAME:EDT
DTSTART:20260308T070000
END:DAYLIGHT
BEGIN:STANDARD
TZOFFSETFROM:-0400
TZOFFSETTO:-0500
TZNAME:EST
DTSTART:20261101T060000
END:STANDARD
END:VTIMEZONE
BEGIN:VEVENT
DTSTART;TZID=America/Detroit:20260403T120000
DTEND;TZID=America/Detroit:20260403T130000
DTSTAMP:20260419T151954
CREATED:20260228T210554Z
LAST-MODIFIED:20260325T203249Z
UID:11767-1775217600-1775221200@angolaucc.org
SUMMARY:Holy Week Events
DESCRIPTION:We’ll celebrate Palm Sunday on March 29\, which is also a Child of God Sunday\, during which we invite our youth and children to guide our worship. \nThe following week is Holy Week. We’ll host these special services: \n\nMaundy Thursday\, join our pastors for a soup and bread drop-in from 4-6 pm. We’ll share a light meal and trade table blessings as we remember the last supper of Christ and his companions.\nOn Good Friday there are two special service opportunities. At noon\, join us at our church for the ecumenical Good Friday service including area pastors and congregants. At 6 pm join us for Stations of the Cross.\nHoly Saturday\, we’ll have a prayer vigil from 10 am to 12 pm in the Chapel in the Garden. We’ll post a sign-up sheet for 15-minute increments of prayer as we get closer to this event.\n\nFor Easter we’ll have a sunrise service at 6:45 am in the Chapel; at 9 am we’ll enjoy an Easter Egg Hunt and morning coffee and muffins before service\, followed by Easter worship at 10 am. \n
URL:https://angolaucc.org/event/holy-week-events/2026-04-03/
CATEGORIES:Church,Community,Holiday
ATTACH;FMTTYPE=image/png:https://angolaucc.org/wp-content/uploads/2025/03/Holy-Week-2025-Logo.png
END:VEVENT
BEGIN:VEVENT
DTSTART;TZID=America/Detroit:20260403T180000
DTEND;TZID=America/Detroit:20260403T190000
DTSTAMP:20260419T151954
CREATED:20260228T210554Z
LAST-MODIFIED:20260325T203250Z
UID:11768-1775239200-1775242800@angolaucc.org
SUMMARY:Holy Week Events
DESCRIPTION:We’ll celebrate Palm Sunday on March 29\, which is also a Child of God Sunday\, during which we invite our youth and children to guide our worship. \nThe following week is Holy Week. We’ll host these special services: \n\nMaundy Thursday\, join our pastors for a soup and bread drop-in from 4-6 pm. We’ll share a light meal and trade table blessings as we remember the last supper of Christ and his companions.\nOn Good Friday there are two special service opportunities. At noon\, join us at our church for the ecumenical Good Friday service including area pastors and congregants. At 6 pm join us for Stations of the Cross.\nHoly Saturday\, we’ll have a prayer vigil from 10 am to 12 pm in the Chapel in the Garden. We’ll post a sign-up sheet for 15-minute increments of prayer as we get closer to this event.\n\nFor Easter we’ll have a sunrise service at 6:45 am in the Chapel; at 9 am we’ll enjoy an Easter Egg Hunt and morning coffee and muffins before service\, followed by Easter worship at 10 am. \n
URL:https://angolaucc.org/event/holy-week-events/2026-04-03/2/
CATEGORIES:Church,Community,Holiday
ATTACH;FMTTYPE=image/png:https://angolaucc.org/wp-content/uploads/2025/03/Holy-Week-2025-Logo.png
END:VEVENT
END:VCALENDAR