BEGIN:VCALENDAR
VERSION:2.0
PRODID:-//First Congregational United Church Of Christ - ECPv4.9.9//NONSGML v1.0//EN
CALSCALE:GREGORIAN
METHOD:PUBLISH
X-WR-CALNAME:First Congregational United Church Of Christ
X-ORIGINAL-URL:https://angolaucc.org
X-WR-CALDESC:Events for First Congregational United Church Of Christ
BEGIN:VTIMEZONE
TZID:America/Detroit
BEGIN:DAYLIGHT
TZOFFSETFROM:-0500
TZOFFSETTO:-0400
TZNAME:EDT
DTSTART:20250309T070000
END:DAYLIGHT
BEGIN:STANDARD
TZOFFSETFROM:-0400
TZOFFSETTO:-0500
TZNAME:EST
DTSTART:20251102T060000
END:STANDARD
END:VTIMEZONE
BEGIN:VEVENT
DTSTART;TZID=America/Detroit:20250302T113000
DTEND;TZID=America/Detroit:20250302T130000
DTSTAMP:20260422T113808
CREATED:20250228T173552Z
LAST-MODIFIED:20250228T173552Z
UID:9825-1740915000-1740920400@angolaucc.org
SUMMARY:Youth Group
DESCRIPTION:Co-Lead by Pastor Nikki and Isabel Newcom\, this group for 6th – 12th graders gathers on the first Sunday of every month. You don’t have to be a member to attend! Feel free to bring a youth friend to the meeting! \n
URL:https://angolaucc.org/event/youth-group-2025/2025-03-02/
CATEGORIES:Church,Youth
ATTACH;FMTTYPE=image/png:https://angolaucc.org/wp-content/uploads/2025/02/Youth-Group-square.png
END:VEVENT
END:VCALENDAR