BEGIN:VCALENDAR
VERSION:2.0
PRODID:-//First Congregational United Church Of Christ - ECPv4.9.9//NONSGML v1.0//EN
CALSCALE:GREGORIAN
METHOD:PUBLISH
X-WR-CALNAME:First Congregational United Church Of Christ
X-ORIGINAL-URL:https://angolaucc.org
X-WR-CALDESC:Events for First Congregational United Church Of Christ
BEGIN:VTIMEZONE
TZID:America/Detroit
BEGIN:DAYLIGHT
TZOFFSETFROM:-0500
TZOFFSETTO:-0400
TZNAME:EDT
DTSTART:20250309T070000
END:DAYLIGHT
BEGIN:STANDARD
TZOFFSETFROM:-0400
TZOFFSETTO:-0500
TZNAME:EST
DTSTART:20251102T060000
END:STANDARD
END:VTIMEZONE
BEGIN:VEVENT
DTSTART;TZID=America/Detroit:20250406T130000
DTEND;TZID=America/Detroit:20250406T150000
DTSTAMP:20260420T140943
CREATED:20250329T031659Z
LAST-MODIFIED:20250329T031659Z
UID:10066-1743944400-1743951600@angolaucc.org
SUMMARY:TinCaps for Crossroad
DESCRIPTION:Crossroad will be featured as the TinCaps Community Organization of the Game on Sunday\, April 6! \nA portion of every ticket sold through the custom link (see button below) will be donated to Crossroad. \nGates at Parkview Field in Fort Wayne open at 12:05 pm\, and the game begins at 1:00 pm. \nClick the link for more info and to get your tickets and support Crossroad! \n
URL:https://angolaucc.org/event/tincaps-for-crossroad/
CATEGORIES:Community,Youth
ATTACH;FMTTYPE=image/png:https://angolaucc.org/wp-content/uploads/2025/03/Crossroad-TinCaps.png
END:VEVENT
END:VCALENDAR